BEGIN:VCALENDAR
VERSION:2.0
PRODID:-//Uudenkaupungin Urheilukeskus - ECPv4.6.21//NONSGML v1.0//EN
CALSCALE:GREGORIAN
METHOD:PUBLISH
X-WR-CALNAME:Uudenkaupungin Urheilukeskus
X-ORIGINAL-URL:https://ukinurheilukeskus.fi
X-WR-CALDESC:Events for Uudenkaupungin Urheilukeskus
BEGIN:VEVENT
DTSTART;TZID=Europe/Helsinki:20250210T180000
DTEND;TZID=Europe/Helsinki:20250210T190000
DTSTAMP:20260422T053121
CREATED:20250121T151138Z
LAST-MODIFIED:20250121T151141Z
UID:11882-1739210400-1739214000@ukinurheilukeskus.fi
SUMMARY:HIIT
DESCRIPTION:Johanna \n
URL:https://ukinurheilukeskus.fi/event/hiit-2/
LOCATION:Mältintie 10\, Uusikaupunki\, 23500\, Suomi
END:VEVENT
END:VCALENDAR