BEGIN:VCALENDAR
VERSION:2.0
PRODID:-//Uudenkaupungin Urheilukeskus - ECPv4.6.21//NONSGML v1.0//EN
CALSCALE:GREGORIAN
METHOD:PUBLISH
X-WR-CALNAME:Uudenkaupungin Urheilukeskus
X-ORIGINAL-URL:https://ukinurheilukeskus.fi
X-WR-CALDESC:Events for Uudenkaupungin Urheilukeskus
BEGIN:VEVENT
DTSTART;TZID=Europe/Helsinki:20250616T180000
DTEND;TZID=Europe/Helsinki:20250616T190000
DTSTAMP:20260421T234659
CREATED:20250515T141012Z
LAST-MODIFIED:20250515T141012Z
UID:12382-1750096800-1750100400@ukinurheilukeskus.fi
SUMMARY:HIIT
DESCRIPTION:Jenni \n
URL:https://ukinurheilukeskus.fi/event/hiit-19/
LOCATION:Mältintie 10\, Uusikaupunki\, 23500\, Suomi
END:VEVENT
END:VCALENDAR