BEGIN:VCALENDAR
VERSION:2.0
PRODID:-//Uudenkaupungin Urheilukeskus - ECPv4.6.21//NONSGML v1.0//EN
CALSCALE:GREGORIAN
METHOD:PUBLISH
X-WR-CALNAME:Uudenkaupungin Urheilukeskus
X-ORIGINAL-URL:https://ukinurheilukeskus.fi
X-WR-CALDESC:Events for Uudenkaupungin Urheilukeskus
BEGIN:VEVENT
DTSTART;TZID=Europe/Helsinki:20250414T180000
DTEND;TZID=Europe/Helsinki:20250414T190000
DTSTAMP:20260422T042145
CREATED:20250312T135411Z
LAST-MODIFIED:20250312T135411Z
UID:12180-1744653600-1744657200@ukinurheilukeskus.fi
SUMMARY:HIIT
DESCRIPTION:Jenni \n
URL:https://ukinurheilukeskus.fi/event/hiit-11/
LOCATION:Mältintie 10\, Uusikaupunki\, 23500\, Suomi
END:VEVENT
END:VCALENDAR