BEGIN:VCALENDAR
VERSION:2.0
PRODID:-//Uudenkaupungin Urheilukeskus - ECPv4.6.21//NONSGML v1.0//EN
CALSCALE:GREGORIAN
METHOD:PUBLISH
X-WR-CALNAME:Uudenkaupungin Urheilukeskus
X-ORIGINAL-URL:https://ukinurheilukeskus.fi
X-WR-CALDESC:Events for Uudenkaupungin Urheilukeskus
BEGIN:VEVENT
DTSTART;TZID=Europe/Helsinki:20241025T180000
DTEND;TZID=Europe/Helsinki:20241025T190000
DTSTAMP:20260422T115130
CREATED:20241021T091634Z
LAST-MODIFIED:20241021T094322Z
UID:11447-1729879200-1729882800@ukinurheilukeskus.fi
SUMMARY:EXTRA Spinning\, ILMOITTAUDU!
DESCRIPTION:Mia \n
URL:https://ukinurheilukeskus.fi/event/extra-spinning-ilmoittaudu-2/
LOCATION:Mältintie 10\, Uusikaupunki\, 23500\, Suomi
END:VEVENT
END:VCALENDAR