BEGIN:VCALENDAR
VERSION:2.0
PRODID:-//Uudenkaupungin Urheilukeskus - ECPv4.6.21//NONSGML v1.0//EN
CALSCALE:GREGORIAN
METHOD:PUBLISH
X-WR-CALNAME:Uudenkaupungin Urheilukeskus
X-ORIGINAL-URL:https://ukinurheilukeskus.fi
X-WR-CALDESC:Events for Uudenkaupungin Urheilukeskus
BEGIN:VEVENT
DTSTART;TZID=Europe/Helsinki:20231206T080000
DTEND;TZID=Europe/Helsinki:20231206T170000
DTSTAMP:20260423T012751
CREATED:20231123T154452Z
LAST-MODIFIED:20231123T154452Z
UID:10268-1701849600-1701882000@ukinurheilukeskus.fi
SUMMARY:EI OHJATTUJA TUNTEJA
DESCRIPTION:Itsenäisyyspäivä! \n
URL:https://ukinurheilukeskus.fi/event/ei-ohjattuja-tunteja/
LOCATION:Mältintie 10\, Uusikaupunki\, 23500\, Suomi
END:VEVENT
END:VCALENDAR