BEGIN:VCALENDAR
VERSION:2.0
PRODID:-//Uudenkaupungin Urheilukeskus - ECPv4.6.21//NONSGML v1.0//EN
CALSCALE:GREGORIAN
METHOD:PUBLISH
X-WR-CALNAME:Uudenkaupungin Urheilukeskus
X-ORIGINAL-URL:https://ukinurheilukeskus.fi
X-WR-CALDESC:Events for Uudenkaupungin Urheilukeskus
BEGIN:VEVENT
DTSTART;TZID=Europe/Helsinki:20260106T080000
DTEND;TZID=Europe/Helsinki:20260106T170000
DTSTAMP:20260421T132556
CREATED:20251222T152548Z
LAST-MODIFIED:20251222T152551Z
UID:12985-1767686400-1767718800@ukinurheilukeskus.fi
SUMMARY:EI OHJATTUJA TUNTEJA
DESCRIPTION:
URL:https://ukinurheilukeskus.fi/event/ei-ohjattuja-tunteja-24/
END:VEVENT
END:VCALENDAR