BEGIN:VCALENDAR
VERSION:2.0
PRODID:-//Uudenkaupungin Urheilukeskus - ECPv4.6.21//NONSGML v1.0//EN
CALSCALE:GREGORIAN
METHOD:PUBLISH
X-WR-CALNAME:Uudenkaupungin Urheilukeskus
X-ORIGINAL-URL:https://ukinurheilukeskus.fi
X-WR-CALDESC:Events for Uudenkaupungin Urheilukeskus
BEGIN:VEVENT
DTSTART;TZID=Europe/Helsinki:20251231T080000
DTEND;TZID=Europe/Helsinki:20251231T170000
DTSTAMP:20260421T132556
CREATED:20251124T115127Z
LAST-MODIFIED:20251124T115130Z
UID:12944-1767168000-1767200400@ukinurheilukeskus.fi
SUMMARY:EI OHJATTUJA TUNTEJA!
DESCRIPTION:
URL:https://ukinurheilukeskus.fi/event/ei-ohjattuja-tunteja-22/
END:VEVENT
END:VCALENDAR