BEGIN:VCALENDAR
VERSION:2.0
PRODID:-//Uudenkaupungin Urheilukeskus - ECPv4.6.21//NONSGML v1.0//EN
CALSCALE:GREGORIAN
METHOD:PUBLISH
X-WR-CALNAME:Uudenkaupungin Urheilukeskus
X-ORIGINAL-URL:https://ukinurheilukeskus.fi
X-WR-CALDESC:Events for Uudenkaupungin Urheilukeskus
BEGIN:VEVENT
DTSTART;TZID=Europe/Helsinki:20251223T100000
DTEND;TZID=Europe/Helsinki:20251223T200000
DTSTAMP:20260421T150641
CREATED:20251124T114923Z
LAST-MODIFIED:20251124T114923Z
UID:12936-1766484000-1766520000@ukinurheilukeskus.fi
SUMMARY:EI OHJATTUJA TUNTEJA!
DESCRIPTION:
URL:https://ukinurheilukeskus.fi/event/ei-ohjattuja-tunteja-18/
END:VEVENT
END:VCALENDAR