BEGIN:VCALENDAR
VERSION:2.0
PRODID:-//Uudenkaupungin Urheilukeskus - ECPv4.6.21//NONSGML v1.0//EN
CALSCALE:GREGORIAN
METHOD:PUBLISH
X-WR-CALNAME:Uudenkaupungin Urheilukeskus
X-ORIGINAL-URL:https://ukinurheilukeskus.fi
X-WR-CALDESC:Events for Uudenkaupungin Urheilukeskus
BEGIN:VEVENT
DTSTART;TZID=Europe/Helsinki:20250418T080000
DTEND;TZID=Europe/Helsinki:20250418T170000
DTSTAMP:20260422T025618
CREATED:20250408T094955Z
LAST-MODIFIED:20250408T095150Z
UID:12240-1744963200-1744995600@ukinurheilukeskus.fi
SUMMARY:EI OHJATTUJA TUNTEJA!
DESCRIPTION:
URL:https://ukinurheilukeskus.fi/event/ei-ohjattuja-tunteja-15/
LOCATION:Mältintie 10\, Uusikaupunki\, 23500\, Suomi
END:VEVENT
END:VCALENDAR