BEGIN:VCALENDAR
VERSION:2.0
PRODID:-//Uudenkaupungin Urheilukeskus - ECPv4.6.21//NONSGML v1.0//EN
CALSCALE:GREGORIAN
METHOD:PUBLISH
X-WR-CALNAME:Uudenkaupungin Urheilukeskus
X-ORIGINAL-URL:https://ukinurheilukeskus.fi
X-WR-CALDESC:Events for Uudenkaupungin Urheilukeskus
BEGIN:VEVENT
DTSTART;TZID=Europe/Helsinki:20250401T180000
DTEND;TZID=Europe/Helsinki:20250401T190000
DTSTAMP:20260420T195249
CREATED:20250312T133541Z
LAST-MODIFIED:20250312T133541Z
UID:12126-1743530400-1743534000@ukinurheilukeskus.fi
SUMMARY:Combat RYHMÄ ALKAA!
DESCRIPTION:Jenni \n
URL:https://ukinurheilukeskus.fi/event/combat-ryhma-alkaa/
LOCATION:Mältintie 10\, Uusikaupunki\, 23500\, Suomi
END:VEVENT
END:VCALENDAR