BEGIN:VCALENDAR
VERSION:2.0
PRODID:-//Uudenkaupungin Urheilukeskus - ECPv4.6.21//NONSGML v1.0//EN
CALSCALE:GREGORIAN
METHOD:PUBLISH
X-WR-CALNAME:Uudenkaupungin Urheilukeskus
X-ORIGINAL-URL:https://ukinurheilukeskus.fi
X-WR-CALDESC:Events for Uudenkaupungin Urheilukeskus
BEGIN:VEVENT
DTSTART;TZID=Europe/Helsinki:20250901T180000
DTEND;TZID=Europe/Helsinki:20250901T190000
DTSTAMP:20260421T185629
CREATED:20250822T122346Z
LAST-MODIFIED:20250822T122346Z
UID:12525-1756749600-1756753200@ukinurheilukeskus.fi
SUMMARY:Combat     RYHMÄ ALKAA!
DESCRIPTION:Jenni \n
URL:https://ukinurheilukeskus.fi/event/combat-ryhma-alkaa-2/
END:VEVENT
END:VCALENDAR