BEGIN:VCALENDAR
VERSION:2.0
PRODID:-//Uudenkaupungin Urheilukeskus - ECPv4.6.21//NONSGML v1.0//EN
CALSCALE:GREGORIAN
METHOD:PUBLISH
X-WR-CALNAME:Uudenkaupungin Urheilukeskus
X-ORIGINAL-URL:https://ukinurheilukeskus.fi
X-WR-CALDESC:Events for Uudenkaupungin Urheilukeskus
BEGIN:VEVENT
DTSTART;TZID=Europe/Helsinki:20240924T170000
DTEND;TZID=Europe/Helsinki:20240924T180000
DTSTAMP:20260422T130742
CREATED:20240822T144227Z
LAST-MODIFIED:20240822T144232Z
UID:11254-1727197200-1727200800@ukinurheilukeskus.fi
SUMMARY:Combat Fitness
DESCRIPTION:Marian Dumitru \n
URL:https://ukinurheilukeskus.fi/event/combat-fitness/
LOCATION:Mältintie 10\, Uusikaupunki\, 23500\, Suomi
END:VEVENT
END:VCALENDAR