BEGIN:VCALENDAR
VERSION:2.0
PRODID:-//Uudenkaupungin Urheilukeskus - ECPv4.6.21//NONSGML v1.0//EN
CALSCALE:GREGORIAN
METHOD:PUBLISH
X-WR-CALNAME:Uudenkaupungin Urheilukeskus
X-ORIGINAL-URL:https://ukinurheilukeskus.fi
X-WR-CALDESC:Events for Uudenkaupungin Urheilukeskus
BEGIN:VEVENT
DTSTART;TZID=Europe/Helsinki:20241029T170000
DTEND;TZID=Europe/Helsinki:20241029T180000
DTSTAMP:20260422T115429
CREATED:20240919T162617Z
LAST-MODIFIED:20240919T162622Z
UID:11379-1730221200-1730224800@ukinurheilukeskus.fi
SUMMARY:Combat Fitness
DESCRIPTION:Marian Dumitru \n
URL:https://ukinurheilukeskus.fi/event/combat-fitness-5/
LOCATION:Mältintie 10\, Uusikaupunki\, 23500\, Suomi
END:VEVENT
END:VCALENDAR