BEGIN:VCALENDAR
VERSION:2.0
PRODID:-//Uudenkaupungin Urheilukeskus - ECPv4.6.21//NONSGML v1.0//EN
CALSCALE:GREGORIAN
METHOD:PUBLISH
X-WR-CALNAME:Uudenkaupungin Urheilukeskus
X-ORIGINAL-URL:https://ukinurheilukeskus.fi
X-WR-CALDESC:Events for Uudenkaupungin Urheilukeskus
BEGIN:VEVENT
DTSTART;TZID=Europe/Helsinki:20250304T171500
DTEND;TZID=Europe/Helsinki:20250304T181500
DTSTAMP:20260422T035930
CREATED:20250217T140924Z
LAST-MODIFIED:20250217T140927Z
UID:12010-1741108500-1741112100@ukinurheilukeskus.fi
SUMMARY:Combat Fitness
DESCRIPTION:Marian \n
URL:https://ukinurheilukeskus.fi/event/combat-fitness-13/
LOCATION:Mältintie 10\, Uusikaupunki\, 23500\, Suomi
END:VEVENT
END:VCALENDAR