BEGIN:VCALENDAR
VERSION:2.0
PRODID:-//Uudenkaupungin Urheilukeskus - ECPv4.6.21//NONSGML v1.0//EN
CALSCALE:GREGORIAN
METHOD:PUBLISH
X-WR-CALNAME:Uudenkaupungin Urheilukeskus
X-ORIGINAL-URL:https://ukinurheilukeskus.fi
X-WR-CALDESC:Events for Uudenkaupungin Urheilukeskus
BEGIN:VEVENT
DTSTART;TZID=Europe/Helsinki:20250211T171500
DTEND;TZID=Europe/Helsinki:20250211T181500
DTSTAMP:20260422T053713
CREATED:20250121T150815Z
LAST-MODIFIED:20250121T150823Z
UID:11864-1739294100-1739297700@ukinurheilukeskus.fi
SUMMARY:Combat Fitness
DESCRIPTION:Marian \n
URL:https://ukinurheilukeskus.fi/event/combat-fitness-11/
LOCATION:Mältintie 10\, Uusikaupunki\, 23500\, Suomi
END:VEVENT
END:VCALENDAR