BEGIN:VCALENDAR
VERSION:2.0
PRODID:-//Uudenkaupungin Urheilukeskus - ECPv4.6.21//NONSGML v1.0//EN
CALSCALE:GREGORIAN
METHOD:PUBLISH
X-WR-CALNAME:Uudenkaupungin Urheilukeskus
X-ORIGINAL-URL:https://ukinurheilukeskus.fi
X-WR-CALDESC:Events for Uudenkaupungin Urheilukeskus
BEGIN:VEVENT
DTSTART;TZID=Europe/Helsinki:20250527T180000
DTEND;TZID=Europe/Helsinki:20250527T190000
DTSTAMP:20260420T095419
CREATED:20250506T153557Z
LAST-MODIFIED:20250506T153601Z
UID:12337-1748368800-1748372400@ukinurheilukeskus.fi
SUMMARY:Combat
DESCRIPTION:Jenni \n
URL:https://ukinurheilukeskus.fi/event/combat-13/
LOCATION:Mältintie 10\, Uusikaupunki\, 23500\, Suomi
END:VEVENT
END:VCALENDAR