BEGIN:VCALENDAR
VERSION:2.0
PRODID:-//Uudenkaupungin Urheilukeskus - ECPv4.6.21//NONSGML v1.0//EN
CALSCALE:GREGORIAN
METHOD:PUBLISH
X-WR-CALNAME:Uudenkaupungin Urheilukeskus
X-ORIGINAL-URL:https://ukinurheilukeskus.fi
X-WR-CALDESC:Events for Uudenkaupungin Urheilukeskus
BEGIN:VEVENT
DTSTART;TZID=Europe/Helsinki:20200915T170000
DTEND;TZID=Europe/Helsinki:20200915T180000
DTSTAMP:20260420T094326
CREATED:20200825T142048Z
LAST-MODIFIED:20200825T142048Z
UID:6215-1600189200-1600192800@ukinurheilukeskus.fi
SUMMARY:BODY Lihaskuntotunti
DESCRIPTION:Ohjaaja Mia \n
URL:https://ukinurheilukeskus.fi/event/body-lihaskuntotunti/2020-09-15/
LOCATION:Mältintie 10\, Uusikaupunki\, 23500\, Suomi
END:VEVENT
END:VCALENDAR