BEGIN:VCALENDAR
VERSION:2.0
PRODID:-//Uudenkaupungin Urheilukeskus - ECPv4.6.21//NONSGML v1.0//EN
CALSCALE:GREGORIAN
METHOD:PUBLISH
X-WR-CALNAME:Uudenkaupungin Urheilukeskus
X-ORIGINAL-URL:https://ukinurheilukeskus.fi
X-WR-CALDESC:Events for Uudenkaupungin Urheilukeskus
BEGIN:VEVENT
DTSTART;TZID=Europe/Helsinki:20210817T180000
DTEND;TZID=Europe/Helsinki:20210817T190000
DTSTAMP:20260420T125827
CREATED:20210810T122923Z
LAST-MODIFIED:20210810T122931Z
UID:7073-1629223200-1629226800@ukinurheilukeskus.fi
SUMMARY:BODY Lihaskuntotunti
DESCRIPTION:Ohjaaja Mia \n
URL:https://ukinurheilukeskus.fi/event/body-lihaskuntotunti-7/
LOCATION:Mältintie 10\, Uusikaupunki\, 23500\, Suomi
END:VEVENT
END:VCALENDAR