BEGIN:VCALENDAR
VERSION:2.0
PRODID:-//Uudenkaupungin Urheilukeskus - ECPv4.6.21//NONSGML v1.0//EN
CALSCALE:GREGORIAN
METHOD:PUBLISH
X-WR-CALNAME:Uudenkaupungin Urheilukeskus
X-ORIGINAL-URL:https://ukinurheilukeskus.fi
X-WR-CALDESC:Events for Uudenkaupungin Urheilukeskus
BEGIN:VEVENT
DTSTART;TZID=Europe/Helsinki:20240118T180000
DTEND;TZID=Europe/Helsinki:20240118T190000
DTSTAMP:20260423T002131
CREATED:20240104T160726Z
LAST-MODIFIED:20240104T160732Z
UID:10447-1705600800-1705604400@ukinurheilukeskus.fi
SUMMARY:Body Lihaskuntotunti
DESCRIPTION:Merita \n
URL:https://ukinurheilukeskus.fi/event/body-lihaskuntotunti-37/
LOCATION:Mältintie 10\, Uusikaupunki\, 23500\, Suomi
END:VEVENT
END:VCALENDAR