BEGIN:VCALENDAR
VERSION:2.0
PRODID:-//Uudenkaupungin Urheilukeskus - ECPv4.6.21//NONSGML v1.0//EN
CALSCALE:GREGORIAN
METHOD:PUBLISH
X-WR-CALNAME:Uudenkaupungin Urheilukeskus
X-ORIGINAL-URL:https://ukinurheilukeskus.fi
X-WR-CALDESC:Events for Uudenkaupungin Urheilukeskus
BEGIN:VEVENT
DTSTART;TZID=Europe/Helsinki:20231227T180000
DTEND;TZID=Europe/Helsinki:20231227T190000
DTSTAMP:20260423T012552
CREATED:20231208T145235Z
LAST-MODIFIED:20231208T145350Z
UID:10343-1703700000-1703703600@ukinurheilukeskus.fi
SUMMARY:BODY Lihaskuntotunti
DESCRIPTION:Mia \n
URL:https://ukinurheilukeskus.fi/event/body-lihaskuntotunti-34/
LOCATION:Mältintie 10\, Uusikaupunki\, 23500\, Suomi
END:VEVENT
END:VCALENDAR