BEGIN:VCALENDAR
VERSION:2.0
PRODID:-//Uudenkaupungin Urheilukeskus - ECPv4.6.21//NONSGML v1.0//EN
CALSCALE:GREGORIAN
METHOD:PUBLISH
X-WR-CALNAME:Uudenkaupungin Urheilukeskus
X-ORIGINAL-URL:https://ukinurheilukeskus.fi
X-WR-CALDESC:Events for Uudenkaupungin Urheilukeskus
BEGIN:VEVENT
DTSTART;TZID=Europe/Helsinki:20231116T180000
DTEND;TZID=Europe/Helsinki:20231116T190000
DTSTAMP:20260421T092345
CREATED:20231025T134924Z
LAST-MODIFIED:20231025T135114Z
UID:10194-1700157600-1700161200@ukinurheilukeskus.fi
SUMMARY:Body Lihaskuntotunti
DESCRIPTION:Merita \n
URL:https://ukinurheilukeskus.fi/event/body-lihaskuntotunti-30-2023-11-16/
LOCATION:Mältintie 10\, Uusikaupunki\, 23500\, Suomi
END:VEVENT
END:VCALENDAR