BEGIN:VCALENDAR
VERSION:2.0
PRODID:-//Uudenkaupungin Urheilukeskus - ECPv4.6.21//NONSGML v1.0//EN
CALSCALE:GREGORIAN
METHOD:PUBLISH
X-WR-CALNAME:Uudenkaupungin Urheilukeskus
X-ORIGINAL-URL:https://ukinurheilukeskus.fi
X-WR-CALDESC:Events for Uudenkaupungin Urheilukeskus
BEGIN:VEVENT
DTSTART;TZID=Europe/Helsinki:20231109T180000
DTEND;TZID=Europe/Helsinki:20231109T190000
DTSTAMP:20260423T024233
CREATED:20231025T134924Z
LAST-MODIFIED:20231025T135326Z
UID:10193-1699552800-1699556400@ukinurheilukeskus.fi
SUMMARY:Body Lihaskuntotunti
DESCRIPTION:Merita \n
URL:https://ukinurheilukeskus.fi/event/body-lihaskuntotunti-30-2023-11-09/
LOCATION:Mältintie 10\, Uusikaupunki\, 23500\, Suomi
END:VEVENT
END:VCALENDAR