BEGIN:VCALENDAR
VERSION:2.0
PRODID:-//Uudenkaupungin Urheilukeskus - ECPv4.6.21//NONSGML v1.0//EN
CALSCALE:GREGORIAN
METHOD:PUBLISH
X-WR-CALNAME:Uudenkaupungin Urheilukeskus
X-ORIGINAL-URL:https://ukinurheilukeskus.fi
X-WR-CALDESC:Events for Uudenkaupungin Urheilukeskus
BEGIN:VEVENT
DTSTART;TZID=Europe/Helsinki:20230907T180000
DTEND;TZID=Europe/Helsinki:20230907T190000
DTSTAMP:20260423T050244
CREATED:20230822T124141Z
LAST-MODIFIED:20230907T141959Z
UID:9847-1694109600-1694113200@ukinurheilukeskus.fi
SUMMARY:Body Lihaskuntotunti UUSI RYHMÄ ALKAA!
DESCRIPTION:Sijainen Mia \n
URL:https://ukinurheilukeskus.fi/event/body-lihaskontotunti/
LOCATION:Mältintie 10\, Uusikaupunki\, 23500\, Suomi
END:VEVENT
END:VCALENDAR