BEGIN:VCALENDAR
VERSION:2.0
PRODID:-//Uudenkaupungin Urheilukeskus - ECPv4.6.21//NONSGML v1.0//EN
CALSCALE:GREGORIAN
METHOD:PUBLISH
X-WR-CALNAME:Uudenkaupungin Urheilukeskus
X-ORIGINAL-URL:https://ukinurheilukeskus.fi
X-WR-CALDESC:Events for Uudenkaupungin Urheilukeskus
BEGIN:VEVENT
DTSTART;TZID=Europe/Helsinki:20251107T170000
DTEND;TZID=Europe/Helsinki:20251107T190000
DTSTAMP:20260421T162121
CREATED:20251024T100522Z
LAST-MODIFIED:20251024T100525Z
UID:12841-1762534800-1762542000@ukinurheilukeskus.fi
SUMMARY:1/2 Maraton Spinning\, Huom! katso ilmoittautuminen!
DESCRIPTION:Jyri & Mia \n
URL:https://ukinurheilukeskus.fi/event/1-2-maraton-spinning-huom-katso-ilmoittautuminen/
END:VEVENT
END:VCALENDAR